BEGIN:VCALENDAR
VERSION:2.0
PRODID:-//wp-events-plugin.com//7.2.3.1//EN
TZID:America/Los_Angeles
X-WR-TIMEZONE:America/Los_Angeles
BEGIN:VEVENT
UID:46@againagain.net
DTSTART;TZID=America/Los_Angeles:20260530T093000
DTEND;TZID=America/Los_Angeles:20260530T123000
DTSTAMP:20260301T212432Z
URL:https://www.againagain.net/events/again-again-live-cayton-childrens-mu
 seum/
SUMMARY:Again Again Live @ Cayton Children's Museum
DESCRIPTION:\n\nMeet Anne and Jen\, the creative duo behind Again Again\, a
  progressive kids’ music group that’s all about sparking joy and foste
 ring inclusivity for both young minds and their grown-ups. With a mission 
 to empower through music\, Again Again offers a high-energy\, DJ-driven po
 p experience that invites kids (and parents) to move\, groove\, and get cr
 eative. Based in Los Angeles\, the duo has become a beloved presence withi
 n the LA Public Library system\, bringing their interactive performances t
 o life with live ukulele\, colorful props\, fun choreography\, puppetry\, 
 story time\, and plenty of audience participation. Whether they’re leadi
 ng a dance party or sharing an inspiring story\, Again Again’s shows are
  a celebration of imagination\, connection\, and community.
END:VEVENT
BEGIN:VTIMEZONE
TZID:America/Los_Angeles
X-LIC-LOCATION:America/Los_Angeles
BEGIN:DAYLIGHT
DTSTART:20260308T030000
TZOFFSETFROM:-0800
TZOFFSETTO:-0700
TZNAME:PDT
END:DAYLIGHT
END:VTIMEZONE
END:VCALENDAR